BEGIN:VCALENDAR
VERSION:2.0
PRODID:-//eventon.com NONSGML v1.0//EN
CALSCALE:GREGORIAN
METHOD:PUBLISH
BEGIN:VEVENT
UID:69eb73d4bf450
DTSTAMP:20260424T134452Z
DTSTART:20210920
DTEND:20210921
LOCATION:
SUMMARY:Sales Ex Machina - Live | Auckland
DESCRIPTION:Connecting revenue generators at the intersection of Selling an
 d Sales Technology to discover and accelerate more opportunities. Learn mor
 e at https://salesexmachina.live\nhttps://instituteofsales.co.nz/calendar/s
 ales-ex-machina-live-auckland/
URL:https://instituteofsales.co.nz/calendar/sales-ex-machina-live-auckland/
END:VEVENT
END:VCALENDAR