BEGIN:VCALENDAR
VERSION:2.0
PRODID:-//eventon.com NONSGML v1.0//EN
CALSCALE:GREGORIAN
METHOD:PUBLISH
BEGIN:VEVENT
UID:69eb71e476907
DTSTAMP:20260424T133636Z
DTSTART:20210223T070000Z
DTEND:20210223T090000Z
LOCATION:https://us02web.zoom.us/meeting/register/tZUpcO-prTkjHd0Lk4tvcmq9dllqsC3kKma-
SUMMARY:Virtual Selling
DESCRIPTION:Virtual selling is no longer a choice\,  it’s the ‘new norm
 al’ and the only way to stay in business.  Through a blended approach ac
 ross multiple communications platforms\,  sales professionals must embrace 
 virtual selling and become adept at selling through remote interactions.  
 Engage more\,  in less time\,  at a lower cost.[..]\nhttps://instituteofsal
 es.co.nz/calendar/virtual-selling-3/var/event_access
URL:https://instituteofsales.co.nz/calendar/virtual-selling-3/var/event_access
END:VEVENT
END:VCALENDAR