BEGIN:VCALENDAR
VERSION:2.0
PRODID:-//eventon.com NONSGML v1.0//EN
CALSCALE:GREGORIAN
METHOD:PUBLISH
BEGIN:VEVENT
UID:69eb712e2fcdf
DTSTAMP:20260424T133334Z
DTSTART:20201203T190000Z
DTEND:20201204T040000Z
LOCATION:
SUMMARY:Virtual Selling
DESCRIPTION:Virtual selling is no longer a choice\,  it’s the ‘new norm
 al’ and the only way to stay in business.  Through a blended approach ac
 ross multiple communications platforms\,  sales professionals must embrace 
 virtual selling and become adept at selling through remote interactions.  
 Engage more\,  in less time\,  at a lower cost.[..]\nhttps://instituteofsal
 es.co.nz/calendar/virtual-selling/
URL:https://instituteofsales.co.nz/calendar/virtual-selling/
END:VEVENT
END:VCALENDAR