BEGIN:VCALENDAR
VERSION:2.0
PRODID:-//eventon.com NONSGML v1.0//EN
CALSCALE:GREGORIAN
METHOD:PUBLISH
BEGIN:VEVENT
UID:69eb74c9776f2
DTSTAMP:20260424T134857Z
DTSTART:20220629T200000Z
DTEND:20220629T210000Z
LOCATION:https://us02web.zoom.us/meeting/register/tZUkdOusrj4uHdVqF4ypUG_K1ao-HDuZXJTS
SUMMARY:Mastering the Transition to Virtual Selling
DESCRIPTION:In recent years\,  companies have embarked on a journey of digi
 tal transformation. Sales teams are also on this journey\,  adopting modern
  technologies\,  and embracing advanced tactics to enhance connections with
  buyers and build relationships at scale.COVID19 has accelerated this trend
 \,  with sellers now replacing in-person meetings and events with virtual[.
 .]\nhttps://instituteofsales.co.nz/calendar/mastering-the-transition-to-vir
 tual-selling-4/
URL:https://instituteofsales.co.nz/calendar/mastering-the-transition-to-virtual-selling-4/
END:VEVENT
END:VCALENDAR