BEGIN:VCALENDAR
VERSION:2.0
PRODID:-//eventon.com NONSGML v1.0//EN
CALSCALE:GREGORIAN
METHOD:PUBLISH
BEGIN:VEVENT
UID:69eb714cddeb8
DTSTAMP:20260424T133404Z
DTSTART:20210203T190000Z
DTEND:20210203T200000Z
LOCATION:https://us02web.zoom.us/meeting/register/tZEuduysrzwiGtxYT7SBmBGKZ0jVH6SuvMz1
SUMMARY:Mastering the Transition to Virtual Selling
DESCRIPTION:In recent years\,  companies have embarked on a journey of digi
 tal transformation. Sales teams are also on this journey\,  adopting modern
  technologies\,  embracing advanced tactics to enhance connections with buy
 ers and build relationships at scale.COVID19 has accelerated this trend\,  
 with sellers now replacing in-person meetings and events with virtual engag
 ement.[..]\nhttps://instituteofsales.co.nz/calendar/mastering-the-transitio
 n-to-virtual-selling-3/var/event_access
URL:https://instituteofsales.co.nz/calendar/mastering-the-transition-to-virtual-selling-3/var/event_access
END:VEVENT
END:VCALENDAR