BEGIN:VCALENDAR
VERSION:2.0
PRODID:-//eventon.com NONSGML v1.0//EN
CALSCALE:GREGORIAN
METHOD:PUBLISH
BEGIN:VEVENT
UID:69eb714cddada
DTSTAMP:20260424T133404Z
DTSTART:20210603T200000Z
DTEND:20210603T210000Z
LOCATION:https://us02web.zoom.us/meeting/register/tZ0udO-przIuH9x9vloM7uCQu7iXCTh0msD9
SUMMARY:Field or Inside Sales?
DESCRIPTION:Having a field sales force is expensive. Transitioning into an 
 inside sales force may realise many cost savings. Understanding the differe
 nces\,  where each format may be useful\,  and not\,  and some solutions an
 d sales models will not lend themselves to moving to an inside sales model.
 \nhttps://instituteofsales.co.nz/calendar/field-or-inside-sales-4/var/event
 _access
URL:https://instituteofsales.co.nz/calendar/field-or-inside-sales-4/var/event_access
END:VEVENT
END:VCALENDAR