BEGIN:VCALENDAR
VERSION:2.0
PRODID:-//eventon.com NONSGML v1.0//EN
CALSCALE:GREGORIAN
METHOD:PUBLISH
BEGIN:VEVENT
UID:69eb76fbe90c6
DTSTAMP:20260424T135819Z
DTSTART:20210209T190000Z
DTEND:20210209T200000Z
LOCATION:https://us02web.zoom.us/meeting/register/tZ0vduuhpjIpGd10rcL92zBPOXnbR1ghAxS8
SUMMARY:Sales in New Zealand has changed forever\,  or has it?
DESCRIPTION:Business and sales in New Zealand have changed forever\,  &#823
 0; or has it really? Hear from practitioners in the sales profession on the
 ir views as to what has changed\,  what trends they see going forward and a
 re preparing for\,  and what timeless behaviours and customer expectations 
 will remain.\nhttps://instituteofsales.co.nz/calendar/sales-in-new-zealand-
 has-changed-forever-or-has-it-3/var/event_access
URL:https://instituteofsales.co.nz/calendar/sales-in-new-zealand-has-changed-forever-or-has-it-3/var/event_access
END:VEVENT
END:VCALENDAR