BEGIN:VCALENDAR
VERSION:2.0
PRODID:-//eventon.com NONSGML v1.0//EN
CALSCALE:GREGORIAN
METHOD:PUBLISH
BEGIN:VEVENT
UID:69eb710f27f63
DTSTAMP:20260424T133303Z
DTSTART:20210418T190000Z
DTEND:20210418T210000Z
LOCATION:
SUMMARY:Breakfast Briefing | Christchurch | Uncovering the ROI of your Sales Training
DESCRIPTION:Budgets are tighter in this new pandemic economy. If you’re i
 n charge of upskilling a sales team\,  you know how hard it is to justify a
 ny new investment in programs. However\,  the only way to win is with a sal
 es force fully equipped with product knowledge\,  best practices\,  and art
 iculating[..]\nhttps://instituteofsales.co.nz/calendar/breakfast-briefing-c
 hristchurch-topic-tba/
URL:https://instituteofsales.co.nz/calendar/breakfast-briefing-christchurch-topic-tba/
END:VEVENT
END:VCALENDAR