BEGIN:VCALENDAR
VERSION:2.0
PRODID:-//eventon.com NONSGML v1.0//EN
CALSCALE:GREGORIAN
METHOD:PUBLISH
BEGIN:VEVENT
UID:69eb740e24701
DTSTAMP:20260424T134550Z
DTSTART:20210415T190000Z
DTEND:20210415T210000Z
LOCATION:
SUMMARY:Breakfast Briefing | Auckland | Uncovering the ROI of your Sales Training
DESCRIPTION:Budgets are tighter in this new pandemic economy. If you’re i
 n charge of upskilling a sales team\,  you know how hard it is to justify a
 ny new investment in programs. However\,  the only way to win is with a sal
 es force fully equipped with product knowledge\,  best practices\,  and art
 iculating[..]\nhttps://instituteofsales.co.nz/calendar/breakfast-briefing-a
 uckland-the-next-chapter-copy/
URL:https://instituteofsales.co.nz/calendar/breakfast-briefing-auckland-the-next-chapter-copy/
END:VEVENT
END:VCALENDAR