BEGIN:VCALENDAR
VERSION:2.0
PRODID:-//eventon.com NONSGML v1.0//EN
CALSCALE:GREGORIAN
METHOD:PUBLISH
BEGIN:VEVENT
UID:69eb71875700e
DTSTAMP:20260424T133503Z
DTSTART:20210124T180000Z
DTEND:20210124T200000Z
LOCATION:
SUMMARY:Breakfast Briefing | Christchurch | The next chapter
DESCRIPTION:We&#8217;re now in a time of unprecedented change with a new ch
 apter of government\,  a cataclysmic upheaval of business conditions on the
  back of the pandemic. In this\,  the New Zealand Institute of Sales&#8217;
  inaugural Breakfast Briefing event in Christchurch\,  we&#8217;ll come tog
 ether to learn the local and global impact[..]\nhttps://instituteofsales.co
 .nz/calendar/breakfast-briefing-christchurch-the-next-chapter/
URL:https://instituteofsales.co.nz/calendar/breakfast-briefing-christchurch-the-next-chapter/
END:VEVENT
END:VCALENDAR