BEGIN:VCALENDAR
VERSION:2.0
PRODID:-//eventon.com NONSGML v1.0//EN
CALSCALE:GREGORIAN
METHOD:PUBLISH
BEGIN:VEVENT
UID:69eb743db9625
DTSTAMP:20260424T134637Z
DTSTART:20210120T180000Z
DTEND:20210120T200000Z
LOCATION:
SUMMARY:Breakfast Briefing | Hamilton | The next chapter
DESCRIPTION:We&#8217;re now in a time of unprecedented change with a new ch
 apter of government\,  a cataclysmic upheaval of business conditions on the
  back of the pandemic. In this\,  the New Zealand Institute of Sales&#8217;
  inaugural Breakfast Briefing event in Hamilton\,  we&#8217;ll come togethe
 r to learn the local and global impact[..]\nhttps://instituteofsales.co.nz/
 calendar/breakfast-briefing-hamilton-the-next-chapter-copy/
URL:https://instituteofsales.co.nz/calendar/breakfast-briefing-hamilton-the-next-chapter-copy/
END:VEVENT
END:VCALENDAR